BEGIN:VCALENDAR
VERSION:2.0
PRODID:-//Phoenix Food Festivals - ECPv6.15.20//NONSGML v1.0//EN
CALSCALE:GREGORIAN
METHOD:PUBLISH
X-WR-CALNAME:Phoenix Food Festivals
X-ORIGINAL-URL:https://phoenixfoodfestivals.com
X-WR-CALDESC:Events for Phoenix Food Festivals
REFRESH-INTERVAL;VALUE=DURATION:PT1H
X-Robots-Tag:noindex
X-PUBLISHED-TTL:PT1H
BEGIN:VTIMEZONE
TZID:America/Phoenix
BEGIN:STANDARD
TZOFFSETFROM:-0700
TZOFFSETTO:-0700
TZNAME:MST
DTSTART:20250101T000000
END:STANDARD
END:VTIMEZONE
BEGIN:VEVENT
DTSTART;TZID=America/Phoenix:20260307T160000
DTEND;TZID=America/Phoenix:20260307T210000
DTSTAMP:20260425T205553
CREATED:20260130T034525Z
LAST-MODIFIED:20260130T034525Z
UID:1012-1772899200-1772917200@phoenixfoodfestivals.com
SUMMARY:Mesa Night Market
DESCRIPTION:This night market will showcase local food vendors and a variety of anime/retail vendors at this Asian food festival. This food festival is about highlighting the diversity of food and an opportunity for small businesses to show their culture through their food. \nLocation: 1920 W Broadway Rd\, Mesa\, AZ 85202\nDate/Time: Saturday\, March 7th 2026 // 4:00 PM – 9:00 PM \nParking is free. Most vendors will accept both cash and card. We do recommend bringing cash for this event. You can buy food to go. \nPlease RSVP and this will help us have an accurate head count to share with food vendors. You can also order online from Happy Buns to guarantee availability during the event as they often sell out. \nFood and Anime vendors (subject to change)\nDuplex Boba Tea\nHappy Buns – Ube butter mochi\, Coconut bao\, Smoked BBQ Pork Bao\, takoyaki\, Jajangmyeon\nYuki Cheesecakes – Japanese cheesecake (gluten free)\nJasperz Island Fusion – jerk chicken gua bao\, oxtail egg rolls\, garlic noodles\, and more \nMama Lita’s Soda Bar – Handmade Lemonade \nJT’s Curry Wagon – Japanese Curry and Taiwanese braised pork belly \nMinburi Thai – pad thai and more \nMana Hawaiian Fusion – BBQ plates and more \nPHX Lechon Roasters – crispy Lechon \nTaiwanese Classic Scallion Pancake \nK Town in AZ – korean fried chicken\, mandu\, kimchi fried rice \nTita’s Treats – Filipino baked goods \nHot Bamboo – Character bao \nRed Dragon Chinese Food – orange chicken\, spicy wonton\, dumplings\, tanghulu \nAnime artists and marketplace \nSloppy Brush\nIndigPaperKite \nTwisted Bee\nAstro Star Vintage\nRogue Duck Art\n80HDesigns\nAZ Spicy Gummy\nLynnie’s Boutique\nUwu \nAvela Nails \nRodgers Jam Berries \nCreatedbyDVO \nAhmani Candles \nAP Specialties \nRegit J Fashion \nAvela Nails
URL:https://phoenixfoodfestivals.com/event/mesa-night-market-5/
LOCATION:Parking lot of 1920 W Broadway Rd 85202\, 1920 W Broadway Rd\, Mesa\, 85202\, United States
CATEGORIES:Asian food festival
ORGANIZER;CN="Nom Nom Events":MAILTO:nomnomevents48@gmail.com
END:VEVENT
BEGIN:VEVENT
DTSTART;TZID=America/Phoenix:20260327T170000
DTEND;TZID=America/Phoenix:20260327T210000
DTSTAMP:20260425T205553
CREATED:20260130T035133Z
LAST-MODIFIED:20260130T035547Z
UID:1022-1774630800-1774645200@phoenixfoodfestivals.com
SUMMARY:Peoria Night Market
DESCRIPTION:The Peoria Asian Night Market will showcase local food vendors and a variety of anime/retail vendors at this small Asian food festival. We will be highlighting the diversity of Asian food and an opportunity for small businesses to show their culture through their food. \nLocation: Centennial Plaza Park (W Cinnabar Ave\, Peoria\, AZ 85348)\nDate/Time: Friday\, March 27th 5pm to 9pm // 5:00 PM – 9:00 PM \nParking is free. Most vendors will accept both cash and card. We do recommend bringing cash for this event. You can buy food to go. \nPlease RSVP and this will help us have an accurate head count to share with food vendors. You can also order online from Happy Buns to guarantee availability during the event as they often sell out. \nFood and Anime vendors (subject to change) \n3/27 vendor list \nDuplex Boba Tea – milk tea\, coffee\, and fruit teas\nHappy Buns – Ube butter mochi\, Coconut bao\, Smoked BBQ Pork Bao\, Takoyaki\, Jajamean\nYuki Cheesecakes – Japanese cheesecake (gluten free) \nRed Dragon Chinese Food – Orange chicken\, spicy wonton\, shrimp/beef dumplings\, crab cheese wonton\, spring rolls\, Tanghulu \nTaiwanese Classic Scallion Pancake \nK Town in AZ – Korean Fried Chicken\, Kimchi fried rice\, mandu\, bulgogi\, sausage and rice cake skewers \nHappy Honu Shave Ice \nAnime artists and marketplace \nTwisted Bee\nEltigre_Artist\n80HDesigns\nRodgers Jam Berries\nConfetti Kitty \nUwu \nCreatedbyDVO \nAhmani Candles \nUwu station \nLynnie’s Boutique
URL:https://phoenixfoodfestivals.com/event/peoria-night-market-2/
LOCATION:Centennial Plaza\, 9875 N 85th Ave\, Peoria\, 85345\, United States
ORGANIZER;CN="Nom Nom Events":MAILTO:nomnomevents48@gmail.com
END:VEVENT
END:VCALENDAR