BEGIN:VCALENDAR
VERSION:2.0
PRODID:-//Phoenix Food Festivals - ECPv6.15.20//NONSGML v1.0//EN
CALSCALE:GREGORIAN
METHOD:PUBLISH
X-WR-CALNAME:Phoenix Food Festivals
X-ORIGINAL-URL:https://phoenixfoodfestivals.com
X-WR-CALDESC:Events for Phoenix Food Festivals
REFRESH-INTERVAL;VALUE=DURATION:PT1H
X-Robots-Tag:noindex
X-PUBLISHED-TTL:PT1H
BEGIN:VTIMEZONE
TZID:America/Phoenix
BEGIN:STANDARD
TZOFFSETFROM:-0700
TZOFFSETTO:-0700
TZNAME:MST
DTSTART:20250101T000000
END:STANDARD
END:VTIMEZONE
BEGIN:VEVENT
DTSTART;TZID=America/Phoenix:20260220T170000
DTEND;TZID=America/Phoenix:20260220T210000
DTSTAMP:20260425T210253
CREATED:20260130T034936Z
LAST-MODIFIED:20260130T035434Z
UID:1019-1771606800-1771621200@phoenixfoodfestivals.com
SUMMARY:Peoria Night Market
DESCRIPTION:The Peoria Night Market showcases local food vendors and a variety of anime/retail vendors at this small Asian food festival. We will be highlighting the diversity of Asian food and an opportunity for small businesses to show their culture through their food. \nLocation: Centennial Plaza Park (W Cinnabar Ave\, Peoria\, AZ 85348)\nDate/Time: Friday\, February 20th 5pm to 9pm // 5:00 PM – 9:00 PM \nParking is free. Most vendors will accept both cash and card. We do recommend bringing cash for this event. You can buy food to go. \nPlease RSVP and this will help us have an accurate head count to share with food vendors. You can also order online from Happy Buns to guarantee availability during the event as they often sell out. \nFood and Anime vendors (subject to change) \n2/20 vendor list \nDuplex Boba Tea – milk tea\, coffee\, and fruit teas\nHappy Buns – Ube butter mochi\, Coconut bao\, Smoked BBQ Pork Bao\, Takoyaki\, Jajamean\nYuki Cheesecakes – Japanese cheesecake (gluten free) \nRed Dragon Chinese Food – Orange chicken\, spicy wonton\, shrimp/beef dumplings\, crab cheese wonton\, spring rolls\, Tanghulu \nTaiwanese Classic Scallion Pancake \nK Town in AZ – Korean Fried Chicken\, Kimchi fried rice\, mandu\, bulgogi\, sausage and rice cake skewers \nHappy Honu Shave Ice \nAnime artists and marketplace \nTwisted Bee\nEltigre_Artist\n80HDesigns\nRodgers Jam Berries\nConfetti Kitty \nUwu \nCreatedbyDVO \nAhmani Candles \nUwu station \nLynnie’s Boutique
URL:https://phoenixfoodfestivals.com/event/peoria-night-market/
LOCATION:Centennial Plaza\, 9875 N 85th Ave\, Peoria\, 85345\, United States
CATEGORIES:Asian food festival
ORGANIZER;CN="Nom Nom Events":MAILTO:nomnomevents48@gmail.com
END:VEVENT
END:VCALENDAR